BEGIN:VCALENDAR
VERSION:2.0
PRODID:-//CKDH - ECPv4.6.26//NONSGML v1.0//EN
CALSCALE:GREGORIAN
METHOD:PUBLISH
X-WR-CALNAME:CKDH
X-ORIGINAL-URL:https://ckdh.com
X-WR-CALDESC:Events for CKDH
BEGIN:VEVENT
DTSTART;VALUE=DATE:20190427
DTEND;VALUE=DATE:20190429
DTSTAMP:20260421T103359
CREATED:20190404T122926Z
LAST-MODIFIED:20190404T122926Z
UID:5853-1556323200-1556495999@ckdh.com
SUMMARY:2nd Annual\, Oxford Poetry Festival
DESCRIPTION:The 2nd Annual\, Oxford Poetry Festival is Saturday and Sunday Apr 27-28. \n  \nOn Saturday April 27\, there are 3 events.  Breakfast 10-11:30 am ($10.00) Trinity United Church Vestry\, Call 902 447-3040 to book tickets. Focusing on poems of local ancestors. Down Town Poetry: 1:00 – 3:30 pm\, Poetry Readings by a total of 11 poets in 5 down town Oxford locations beginning at GJDE Enterprises Ltd. on Water St. And there is a FREE -Evening of Folk Music\, 7-9 pm\, Trinity United Church Vestry – Free-will donations at the door. \n  \nOn Sunday\, April 28: Poetry Cafe\, Readings and conversation with outstanding poets. 1:30-3:30 pm\, Trinity United Church Vestry – Free-will donations at the door. Desserts for Sale. \n  \nMore information on Facebook: Poetry At Large Oxford \n
URL:https://ckdh.com/event/2nd-annual-oxford-poetry-festival/
END:VEVENT
END:VCALENDAR