BEGIN:VCALENDAR
VERSION:2.0
PRODID:-//CKDH - ECPv4.6.26//NONSGML v1.0//EN
CALSCALE:GREGORIAN
METHOD:PUBLISH
X-WR-CALNAME:CKDH
X-ORIGINAL-URL:https://ckdh.com
X-WR-CALDESC:Events for CKDH
BEGIN:VEVENT
DTSTART;VALUE=DATE:20180707
DTEND;VALUE=DATE:20180709
DTSTAMP:20260422T125650
CREATED:20180618T162302Z
LAST-MODIFIED:20180618T162302Z
UID:2141-1530921600-1531094399@ckdh.com
SUMMARY:38th Annual Festival and Co-ed Softball Tournament
DESCRIPTION:The Tidnish Crossroads and Area Community Association\, is holding it’s 38th Annual Festival and Co-ed Softball Tournament the weekend of July 7-8 at the Rodney Estabrooks Memorial Sports Field in Tidnish. In addition there will amusements for kids including Kalei’s Balloon Creations both Saturday and Sunday\, balloon creations\, 4H demonstrations\, live music\, and great food at the canteen. There is a dance Saturday night and the Pocrk Chop BBQ Sunday afternoon. For more information contact Melissa Doherty at 902-297-0821 (mcdoherty@gmail.com) or email rodgilroy@royalrepage.com \n  \n
URL:https://ckdh.com/event/38th-annual-festival-and-co-ed-softball-tournament/
END:VEVENT
END:VCALENDAR