BEGIN:VCALENDAR
VERSION:2.0
PRODID:-//CKDH - ECPv4.6.26//NONSGML v1.0//EN
CALSCALE:GREGORIAN
METHOD:PUBLISH
X-WR-CALNAME:CKDH
X-ORIGINAL-URL:https://ckdh.com
X-WR-CALDESC:Events for CKDH
BEGIN:VEVENT
DTSTART;VALUE=DATE:20170721
DTEND;VALUE=DATE:20170724
DTSTAMP:20260423T124926
CREATED:20170704T171750Z
LAST-MODIFIED:20170705T144916Z
UID:1161-1500595200-1500854399@ckdh.com
SUMMARY:3rd Annual Bordetown Biker Bash
DESCRIPTION:The 3rd Annual Bordertown Biker Bash is July 21-23 at Amherst Town Square. This year’s events include stunt shows\, a biker breakfast\, guided tours\, the Tim Horton’s Blitz the Bridge\, a Saturday Night Dance featuring 3 bands\, over 30 vendors and much more. Find them on facebook or go to their website for more information bordertownbikerbash.ca \n
URL:https://ckdh.com/event/3rd-annual-bordetown-biker-bash/
END:VEVENT
END:VCALENDAR