BEGIN:VCALENDAR
VERSION:2.0
PRODID:-//CKDH - ECPv4.6.26//NONSGML v1.0//EN
CALSCALE:GREGORIAN
METHOD:PUBLISH
X-WR-CALNAME:CKDH
X-ORIGINAL-URL:https://ckdh.com
X-WR-CALDESC:Events for CKDH
BEGIN:VEVENT
DTSTART;VALUE=DATE:20180908
DTEND;VALUE=DATE:20180910
DTSTAMP:20260421T131931
CREATED:20180827T145432Z
LAST-MODIFIED:20180827T145432Z
UID:4819-1536364800-1536537599@ckdh.com
SUMMARY:3rd Annual  Working Truck Show and Shine
DESCRIPTION:The 3rd Annual  Working Truck Show and Shine is next weekend\, Sept 8-9 at the Amherst Center. Registration starts Saturday at 10\, with an entry fee of $20. General admission is by donation. There will be a BBQ and Breakfast on site\, music and new vendors. There will be a parade on Sunday at 10. For more information call Bill Dowe at 902-664-6316. \n
URL:https://ckdh.com/event/3rd-annual-working-truck-show-and-shine/
END:VEVENT
END:VCALENDAR