BEGIN:VCALENDAR
VERSION:2.0
PRODID:-//CKDH - ECPv4.6.26//NONSGML v1.0//EN
CALSCALE:GREGORIAN
METHOD:PUBLISH
X-WR-CALNAME:CKDH
X-ORIGINAL-URL:https://ckdh.com
X-WR-CALDESC:Events for CKDH
BEGIN:VEVENT
DTSTART;TZID=America/Halifax:20190520T193000
DTEND;TZID=America/Halifax:20190520T193000
DTSTAMP:20260423T125941
CREATED:20190514T161624Z
LAST-MODIFIED:20190514T161624Z
UID:6061-1558380600-1558380600@ckdh.com
SUMMARY:45’s at the Fenwick Community Hall
DESCRIPTION:There’s a great night of 45’s at the Fenwick Community Hall\, Monday nights at 7:30. They will serve a lunch afterward. The cost is $3 to play. \n
URL:https://ckdh.com/event/45s-at-the-fenwick-community-hall/
END:VEVENT
END:VCALENDAR