BEGIN:VCALENDAR
VERSION:2.0
PRODID:-//CKDH - ECPv4.6.26//NONSGML v1.0//EN
CALSCALE:GREGORIAN
METHOD:PUBLISH
X-WR-CALNAME:CKDH
X-ORIGINAL-URL:https://ckdh.com
X-WR-CALDESC:Events for CKDH
BEGIN:VEVENT
DTSTART;TZID=America/Halifax:20180711T083000
DTEND;TZID=America/Halifax:20180711T083000
DTSTAMP:20260422T161445
CREATED:20180711T163152Z
LAST-MODIFIED:20180711T163152Z
UID:2244-1531297800-1531297800@ckdh.com
SUMMARY:4th Annual BHP Challenge
DESCRIPTION:The 4th Annual BHP Challenge is Sat Jul 21 at Sackville’s Beach Hill Park. The main race is a little over 4km\, with more than a dozen obstacles. The Mini-Challenge for kids 5-11 is back again too. Race sign-in is at 8:30\, but pre-registration and payment is required by July 19. Click on the “Summer Programs” link at Sackville.com.  The cost is $25 for adults\, $10 for students\, and children $5\, unless their parents are participating in the race. Then it’s free. \n
URL:https://ckdh.com/event/4th-annual-bhp-challenge/
END:VEVENT
END:VCALENDAR