BEGIN:VCALENDAR
VERSION:2.0
PRODID:-//CKDH - ECPv4.6.26//NONSGML v1.0//EN
CALSCALE:GREGORIAN
METHOD:PUBLISH
X-WR-CALNAME:CKDH
X-ORIGINAL-URL:https://ckdh.com
X-WR-CALDESC:Events for CKDH
BEGIN:VEVENT
DTSTART;TZID=America/Halifax:20191102T090000
DTEND;TZID=America/Halifax:20191102T140000
DTSTAMP:20260421T150149
CREATED:20191017T155111Z
LAST-MODIFIED:20191017T155111Z
UID:6864-1572685200-1572703200@ckdh.com
SUMMARY:50+ Club Annual Craft Show
DESCRIPTION:The Amherst 50+ Club’s 2nd Annual Craft Show\, is Saturday Nov 2 from 9-2 at their hall on Croft Street. If you would like a table\, they are $10. The kitchen will be open\, with chili or soup and dessert and beverage for $7. For more information\, call Merrill Murray at 902-694-0428. \n
URL:https://ckdh.com/event/50-club-annual-craft-show/
END:VEVENT
END:VCALENDAR