BEGIN:VCALENDAR
VERSION:2.0
PRODID:-//CKDH - ECPv4.6.26//NONSGML v1.0//EN
CALSCALE:GREGORIAN
METHOD:PUBLISH
X-WR-CALNAME:CKDH
X-ORIGINAL-URL:https://ckdh.com
X-WR-CALDESC:Events for CKDH
BEGIN:VEVENT
DTSTART;TZID=UTC+0:20170805T120000
DTEND;TZID=UTC+0:20170805T120000
DTSTAMP:20260422T122213
CREATED:20170524T192122Z
LAST-MODIFIED:20170724T165754Z
UID:918-1501934400-1501934400@ckdh.com
SUMMARY:5th Annual Minudie Music Fest
DESCRIPTION:The 5th Annual Minudie Music Fest is Sat Aug 5 from noon til midnight at 5553 Barronsfield Road. A great day of music from local area performers including C4\, Chelsea Atkinson\, Jerry Metz and Plan B. There will be a Beer Tent\, a BBQ\, 50/50 draws and a door prize. Admission is $10\, free for those 12 and under. And be sure to bring your lawn chairs. All proceeds go back to the community. \n
URL:https://ckdh.com/event/5th-annual-minudie-music-fest/
END:VEVENT
END:VCALENDAR