BEGIN:VCALENDAR
VERSION:2.0
PRODID:-//CKDH - ECPv4.6.26//NONSGML v1.0//EN
CALSCALE:GREGORIAN
METHOD:PUBLISH
X-WR-CALNAME:CKDH
X-ORIGINAL-URL:https://ckdh.com
X-WR-CALDESC:Events for CKDH
BEGIN:VEVENT
DTSTART;TZID=America/Halifax:20181208T183000
DTEND;TZID=America/Halifax:20181208T183000
DTSTAMP:20260422T230132
CREATED:20181122T171449Z
LAST-MODIFIED:20181122T171449Z
UID:5215-1544293800-1544293800@ckdh.com
SUMMARY:6th Annual Emergency Services Parade of Lights
DESCRIPTION:Sackville’s 6th Annual Emergency Services Parade of Lights is Sat Dec 8\, starting at 6:30 from the Fire Station. All the emergency services vehicles will be decorated Christmas lights. \n
URL:https://ckdh.com/event/6th-annual-emergency-services-parade-of-lights/
END:VEVENT
END:VCALENDAR