BEGIN:VCALENDAR
VERSION:2.0
PRODID:-//CKDH - ECPv4.6.26//NONSGML v1.0//EN
CALSCALE:GREGORIAN
METHOD:PUBLISH
X-WR-CALNAME:CKDH
X-ORIGINAL-URL:https://ckdh.com
X-WR-CALDESC:Events for CKDH
BEGIN:VEVENT
DTSTART;TZID=UTC+0:20171021T180000
DTEND;TZID=UTC+0:20171021T180000
DTSTAMP:20260419T173553
CREATED:20171019T111857Z
LAST-MODIFIED:20171019T111857Z
UID:1641-1508608800-1508608800@ckdh.com
SUMMARY:6th Annual Pumpkin Run
DESCRIPTION:The 6th Annual Pumpkin Run\, organized by the Cumberland Y Service Club\, is  Saturday\, at Dickey Park. The 5K Fun Run starts at 6:00pm. The race route will be guided by jack-o’-lanterns! The cost is $15 for adults\, $10 for youth or a $20 family rate. Participants will receive a finishers medal and post race snacks! \n
URL:https://ckdh.com/event/6th-annual-pumpkin-run/
END:VEVENT
END:VCALENDAR