BEGIN:VCALENDAR
VERSION:2.0
PRODID:-//CKDH - ECPv4.6.26//NONSGML v1.0//EN
CALSCALE:GREGORIAN
METHOD:PUBLISH
X-WR-CALNAME:CKDH
X-ORIGINAL-URL:https://ckdh.com
X-WR-CALDESC:Events for CKDH
BEGIN:VEVENT
DTSTART;TZID=America/Halifax:20190426T090000
DTEND;TZID=America/Halifax:20190426T140000
DTSTAMP:20260421T135500
CREATED:20190422T160527Z
LAST-MODIFIED:20190422T160527Z
UID:5914-1556269200-1556287200@ckdh.com
SUMMARY:8th annual Progressive Agriculture Safety Day
DESCRIPTION:The 8th annual Progressive Agriculture Safety Day is this Friday\, at the Oxford Arena. The day will run from 9-2 and will feature 16 interactive displays for the approximately 370 Grades 4 & 5 students from all Cumberland County elementary schools. \n
URL:https://ckdh.com/event/8th-annual-progressive-agriculture-safety-day/
END:VEVENT
END:VCALENDAR