BEGIN:VCALENDAR
VERSION:2.0
PRODID:-//CKDH - ECPv4.6.26//NONSGML v1.0//EN
CALSCALE:GREGORIAN
METHOD:PUBLISH
X-WR-CALNAME:CKDH
X-ORIGINAL-URL:https://ckdh.com
X-WR-CALDESC:Events for CKDH
BEGIN:VEVENT
DTSTART;TZID=America/Halifax:20180710T150000
DTEND;TZID=America/Halifax:20180710T180000
DTSTAMP:20260422T193554
CREATED:20180710T134709Z
LAST-MODIFIED:20180710T134709Z
UID:2238-1531234800-1531245600@ckdh.com
SUMMARY:90th Annual Strawberry Festival in Wallace
DESCRIPTION:The 90th Annual Strawberry Festival in Wallace is this Saturday. It’s on from 3-6 at the Wallace Community Hall. There will be homemade baked beans and a variety of salads and strawberry shortcake. The cost is $12 for adults\, $6 for children 13 and under and free for preschoolers. Take-outs will be available. Proceeds to St Matthew’s Presbyterian Church. \n
URL:https://ckdh.com/event/90th-annual-strawberry-festival-in-wallace/
END:VEVENT
END:VCALENDAR