BEGIN:VCALENDAR
VERSION:2.0
PRODID:-//CKDH - ECPv4.6.26//NONSGML v1.0//EN
CALSCALE:GREGORIAN
METHOD:PUBLISH
X-WR-CALNAME:CKDH
X-ORIGINAL-URL:https://ckdh.com
X-WR-CALDESC:Events for CKDH
BEGIN:VEVENT
DTSTART;TZID=UTC+0:20170528T130000
DTEND;TZID=UTC+0:20170528T153000
DTSTAMP:20260421T164749
CREATED:20170524T192738Z
LAST-MODIFIED:20170524T192845Z
UID:924-1495976400-1495985400@ckdh.com
SUMMARY:154 Amherst Anson Royal Canadian Air Cadet  75th Annual Ceremonial Review\,
DESCRIPTION:The Officers and Cadets of the 154 Amherst Anson Royal Canadian Air Cadet Squadron\, invite you to the Squadron 75th Annual Ceremonial Review\, Sunday May 28  at 1 at the Colonel James Layton Ralston Armoury. The Parade will start at 1:30\, with displays and refreshments to follow. Email  154air@gmail.com or call 902-694-4044 for more information \n
URL:https://ckdh.com/event/924/
END:VEVENT
END:VCALENDAR