BEGIN:VCALENDAR
VERSION:2.0
PRODID:-//CKDH - ECPv4.6.26//NONSGML v1.0//EN
CALSCALE:GREGORIAN
METHOD:PUBLISH
X-WR-CALNAME:CKDH
X-ORIGINAL-URL:https://ckdh.com
X-WR-CALDESC:Events for CKDH
BEGIN:VEVENT
DTSTART;TZID=America/Halifax:20181216T160000
DTEND;TZID=America/Halifax:20181216T160000
DTSTAMP:20260422T193323
CREATED:20181210T165356Z
LAST-MODIFIED:20181210T165356Z
UID:5302-1544976000-1544976000@ckdh.com
SUMMARY:A Child’s Christmas in Wales
DESCRIPTION:The Trinity St Stephens Choir\, guest musicians and CBC personality John Hancock present A Child’s Christmas in Wales\, Sunday at 4 at Trinity St Stephen’s United Church. There is no admission\, by a freewill offering will be taken to support the food bank and Trinity’s fund to assist the needy. \n  \n
URL:https://ckdh.com/event/a-childs-christmas-in-wales/
END:VEVENT
END:VCALENDAR