BEGIN:VCALENDAR
VERSION:2.0
PRODID:-//CKDH - ECPv4.6.26//NONSGML v1.0//EN
CALSCALE:GREGORIAN
METHOD:PUBLISH
X-WR-CALNAME:CKDH
X-ORIGINAL-URL:https://ckdh.com
X-WR-CALDESC:Events for CKDH
BEGIN:VEVENT
DTSTART;TZID=UTC+0:20170511T084500
DTEND;TZID=UTC+0:20170511T170000
DTSTAMP:20260421T145600
CREATED:20170511T164728Z
LAST-MODIFIED:20170511T164728Z
UID:861-1494492300-1494522000@ckdh.com
SUMMARY:Adopt-A-Highway Clean-Up - Joggins
DESCRIPTION:The Joggins Fossil Institute is calling for volunteers to help with its 2017 Adopt-A-Highway Clean-Up Day Wed\, May 24. The Clean Up starts at 8:45 a.m. and will take place along Highway 242 between the Joggins Fossil Centre and civil address 1148. Dress appropriately with long-sleeve shirts\, long pants and sturdy footwear and to bring sun block\, bug repellent and water or juice. Safety vests and gloves will be supplied. Science students from River Hebert School will be helping out and there will be refreshments and door prizes will be available at the Centre after the clean-up. To volunteer contact Laurie at education@jogginsfossilcliffs.net or 902-251-2727 Ext 224. \n
URL:https://ckdh.com/event/adopt-a-highway-clean-up-joggins/
END:VEVENT
END:VCALENDAR