BEGIN:VCALENDAR
VERSION:2.0
PRODID:-//CKDH - ECPv4.6.26//NONSGML v1.0//EN
CALSCALE:GREGORIAN
METHOD:PUBLISH
X-WR-CALNAME:CKDH
X-ORIGINAL-URL:https://ckdh.com
X-WR-CALDESC:Events for CKDH
BEGIN:VEVENT
DTSTART;TZID=America/Halifax:20190108T121500
DTEND;TZID=America/Halifax:20190108T124500
DTSTAMP:20260422T122021
CREATED:20181211T161423Z
LAST-MODIFIED:20181211T161423Z
UID:5330-1546949700-1546951500@ckdh.com
SUMMARY:Adult Learn to Skate
DESCRIPTION:If you’ve wanted to learn to skate\, the Amherst Recreation Department is offering Adult Learn to Skate\, Tuesday’s beginning Jan 8 at the Amherst Stadium. It runs from 12:15- 12:45 and it’s free. A CSA approved helmet is required. Some are available for lending. To register call 902-694-2161 or email tporter@amherst.ca \n
URL:https://ckdh.com/event/adult-learn-to-skate/
END:VEVENT
END:VCALENDAR