BEGIN:VCALENDAR
VERSION:2.0
PRODID:-//CKDH - ECPv4.6.26//NONSGML v1.0//EN
CALSCALE:GREGORIAN
METHOD:PUBLISH
X-WR-CALNAME:CKDH
X-ORIGINAL-URL:https://ckdh.com
X-WR-CALDESC:Events for CKDH
BEGIN:VEVENT
DTSTART;TZID=America/Halifax:20171217T160000
DTEND;TZID=America/Halifax:20171217T160000
DTSTAMP:20260424T135941
CREATED:20171207T140031Z
LAST-MODIFIED:20171207T140031Z
UID:1909-1513526400-1513526400@ckdh.com
SUMMARY:Advent Vespers Service at Trinity-St. Stephen’s.
DESCRIPTION:On Sunday\, December 17th at 4\,  the Church Choir of Trinity-St. Stephen’s United Church\, Amherst along with the Trinity Youth Singers\, Halifax’s East Coast Caroling Company and various other musical guests invite you to the church’s first ever Advent Vespers Service at Trinity-St. Stephen’s. You are invited to come and reflect on traditional and contemporary readings\, listen to  music and take a moment in the midst of the busyness of the season to be still in the quietness of our sanctuary. Admission is a free will offering. \n
URL:https://ckdh.com/event/advent-vespers-service-at-trinity-st-stephens/
END:VEVENT
END:VCALENDAR