BEGIN:VCALENDAR
VERSION:2.0
PRODID:-//CKDH - ECPv4.6.26//NONSGML v1.0//EN
CALSCALE:GREGORIAN
METHOD:PUBLISH
X-WR-CALNAME:CKDH
X-ORIGINAL-URL:https://ckdh.com
X-WR-CALDESC:Events for CKDH
BEGIN:VEVENT
DTSTART;TZID=America/Halifax:20190426T193000
DTEND;TZID=America/Halifax:20190426T193000
DTSTAMP:20260421T121616
CREATED:20190401T155639Z
LAST-MODIFIED:20190402T115539Z
UID:5823-1556307000-1556307000@ckdh.com
SUMMARY:AFD - Glow Bingo
DESCRIPTION:Amherst Fire Department Glow Bingo is back Friday April 26 at 7:30. This time it’s going to be a Hawaiian Luau and the costumes will be bright and colorful. Advance tickets are $30 and go on sale April 12 at the Needs store at the Shell on South Albion Street. DJ Neal will have the music pumping all night and there will be couple of Hawaiian contests. \n
URL:https://ckdh.com/event/afd-glow-bingo-2/
END:VEVENT
END:VCALENDAR