BEGIN:VCALENDAR
VERSION:2.0
PRODID:-//CKDH - ECPv4.6.26//NONSGML v1.0//EN
CALSCALE:GREGORIAN
METHOD:PUBLISH
X-WR-CALNAME:CKDH
X-ORIGINAL-URL:https://ckdh.com
X-WR-CALDESC:Events for CKDH
BEGIN:VEVENT
DTSTART;VALUE=DATE:20170130
DTEND;VALUE=DATE:20170131
DTSTAMP:20260424T132313
CREATED:20170215T234818Z
LAST-MODIFIED:20170215T234818Z
UID:110-1485734400-1485820799@ckdh.com
SUMMARY:African Heritage Month Proclamation Ceremony
DESCRIPTION:This year’s African Heritage Month theme\, Passing the Torch…African Nova Scotians and the next 150 years\, will honor past and present legacies of African Nova Scotians while looking forward to future greatness. The theme embraces African Nova Scotians’ resilience in the face of adversity over the generations as it highlights their successes and the bright path forward as Canada celebrates 150 years of confederation. African Heritage Month kicks off in Cumberland County with a Proclamation Ceremony at the Community Credit Union Business Innovation Center\, Monday Jan 30 at 11:45. \n
URL:https://ckdh.com/event/african-heritage-month-proclamation-ceremony/
END:VEVENT
END:VCALENDAR