BEGIN:VCALENDAR
VERSION:2.0
PRODID:-//CKDH - ECPv4.6.26//NONSGML v1.0//EN
CALSCALE:GREGORIAN
METHOD:PUBLISH
X-WR-CALNAME:CKDH
X-ORIGINAL-URL:https://ckdh.com
X-WR-CALDESC:Events for CKDH
BEGIN:VEVENT
DTSTART;TZID=America/Halifax:20190228T150000
DTEND;TZID=America/Halifax:20190228T150000
DTSTAMP:20260423T111003
CREATED:20190226T132320Z
LAST-MODIFIED:20190226T132320Z
UID:5619-1551366000-1551366000@ckdh.com
SUMMARY:After School Movie-Small Foot
DESCRIPTION:There’s an After School Movie  at the Springhill Library Thursday. They will be showing Small Foot. The show starts at 3 and it’s for grades primary to 6. Children under 9 must be accompanied by an adult. \n  \n
URL:https://ckdh.com/event/after-school-movie-small-foot/
END:VEVENT
END:VCALENDAR