BEGIN:VCALENDAR
VERSION:2.0
PRODID:-//CKDH - ECPv4.6.26//NONSGML v1.0//EN
CALSCALE:GREGORIAN
METHOD:PUBLISH
X-WR-CALNAME:CKDH
X-ORIGINAL-URL:https://ckdh.com
X-WR-CALDESC:Events for CKDH
BEGIN:VEVENT
DTSTART;TZID=America/Halifax:20180912T183000
DTEND;TZID=America/Halifax:20180912T210000
DTSTAMP:20260421T115257
CREATED:20180910T153304Z
LAST-MODIFIED:20180910T153304Z
UID:4917-1536777000-1536786000@ckdh.com
SUMMARY:Air Cadet Open House
DESCRIPTION:The 154 Amherst Air Cadet Squadron is holding new members night Wednesday night from 6:30-9 at the Colonel James Layton Ralston Armouries. The Cadet program is open to all youth aged 12-18\, FREE OF CHARGE. There are countless opportunities available through the Air Cadet program. Some activities included in their regular and optional training programs are: Flights in powered aircraft and gliders\, survival training\, marksmanship\, biathlon\, fitness and sports\, instruction and leadership training. And there are many summer training opportunities. \n
URL:https://ckdh.com/event/air-cadet-open-house/
END:VEVENT
END:VCALENDAR