BEGIN:VCALENDAR
VERSION:2.0
PRODID:-//CKDH - ECPv4.6.26//NONSGML v1.0//EN
CALSCALE:GREGORIAN
METHOD:PUBLISH
X-WR-CALNAME:CKDH
X-ORIGINAL-URL:https://ckdh.com
X-WR-CALDESC:Events for CKDH
BEGIN:VEVENT
DTSTART;TZID=UTC+0:20170422T070000
DTEND;TZID=UTC+0:20170422T100000
DTSTAMP:20260421T101007
CREATED:20170413T172542Z
LAST-MODIFIED:20170413T172542Z
UID:693-1492844400-1492855200@ckdh.com
SUMMARY:ALL YOU CAN EAT BREAKFAST
DESCRIPTION:The Anglican Parish of Westmorland will be holding their ALL YOU CAN EAT BREAKFAST on Sat\, Apr 22nd from 7-10 at St. Mark’s Hall\, Mt. Whatley.  Pancakes\, bacon\, sausage\, ham\, eggs\, toast\, juice\, tea\, coffee.  $8 adults\, $4 under 12 and under 6 free.  There will also be a bake table and flea market table sponsored by the Anglican Church Women \n
URL:https://ckdh.com/event/all-you-can-eat-breakfast/
END:VEVENT
END:VCALENDAR