BEGIN:VCALENDAR
VERSION:2.0
PRODID:-//CKDH - ECPv4.6.26//NONSGML v1.0//EN
CALSCALE:GREGORIAN
METHOD:PUBLISH
X-WR-CALNAME:CKDH
X-ORIGINAL-URL:https://ckdh.com
X-WR-CALDESC:Events for CKDH
BEGIN:VEVENT
DTSTART;TZID=UTC+0:20171025T160000
DTEND;TZID=UTC+0:20171029T180000
DTSTAMP:20260421T103219
CREATED:20171018T185552Z
LAST-MODIFIED:20171018T185552Z
UID:1629-1508947200-1509300000@ckdh.com
SUMMARY:Amherst Center Haunted Scarefest
DESCRIPTION:Wednesday through Sunday\, Oct. 25-29 join the Amherst Center for Haunted Scarefest\, with a tribute to Esther Cox. Wed. and Thursday\,  4 – 9\, Friday\, 10-2 and 4-9  and Saturday and Sunday 10-1 and 3-6. (10 a.m. shows for 12 and under) Admission is $5 for teens and adults and $3 for those 12 and under. You get 1 dollar off your admission with a donation to the food bank\, and your admission allows you to go through twice. \n
URL:https://ckdh.com/event/amherst-center-haunted-scarefest/
END:VEVENT
END:VCALENDAR