BEGIN:VCALENDAR
VERSION:2.0
PRODID:-//CKDH - ECPv4.6.26//NONSGML v1.0//EN
CALSCALE:GREGORIAN
METHOD:PUBLISH
X-WR-CALNAME:CKDH
X-ORIGINAL-URL:https://ckdh.com
X-WR-CALDESC:Events for CKDH
BEGIN:VEVENT
DTSTART;TZID=America/Halifax:20181225T140000
DTEND;TZID=America/Halifax:20181225T160000
DTSTAMP:20260422T192412
CREATED:20181126T164911Z
LAST-MODIFIED:20181126T164911Z
UID:5237-1545746400-1545753600@ckdh.com
SUMMARY:Amherst Community Christmas Dinner
DESCRIPTION:The Amherst Community Christmas Dinner is Christmas Day at the Amherst Lions Center\, between 2 and 4. There will be two sittings of up to 200 people. The Amherst Community Christmas Dinner is made possible because of the support of Tantramar Chev Buick GMC\, GBF Realty\, Archway Insurance\, Maltby-Casey Investments\, CIBC Wood Gundy\, and the Old Warehouse Café. \n
URL:https://ckdh.com/event/amherst-community-christmas-dinner-2/
END:VEVENT
END:VCALENDAR