BEGIN:VCALENDAR
VERSION:2.0
PRODID:-//CKDH - ECPv4.6.26//NONSGML v1.0//EN
CALSCALE:GREGORIAN
METHOD:PUBLISH
X-WR-CALNAME:CKDH
X-ORIGINAL-URL:https://ckdh.com
X-WR-CALDESC:Events for CKDH
BEGIN:VEVENT
DTSTART;TZID=America/Halifax:20201029T183000
DTEND;TZID=America/Halifax:20201030T203000
DTSTAMP:20260421T115715
CREATED:20201021T141909Z
LAST-MODIFIED:20201021T141909Z
UID:8058-1603996200-1604089800@ckdh.com
SUMMARY:Amherst Curling Club - Open House
DESCRIPTION:The Amherst Curling Club is holding an Open House for new and returning members\, Thursday and Friday Oct 29-30\, from 6:30-8″:30rop in for information on their leagues and the Learn to Curl Program. If you would like to try the game\, bring clean sneakers and wear warm\, loose fitting clothes. Instructors will be on hand to introduce you to the game. If you are a returning member\, throw a few rocks and complete your online membership. Contact the club for more information by emailing amherstcurlingclub@gmail.com \n
URL:https://ckdh.com/event/amherst-curling-club-open-house/
END:VEVENT
END:VCALENDAR