BEGIN:VCALENDAR
VERSION:2.0
PRODID:-//CKDH - ECPv4.6.26//NONSGML v1.0//EN
CALSCALE:GREGORIAN
METHOD:PUBLISH
X-WR-CALNAME:CKDH
X-ORIGINAL-URL:https://ckdh.com
X-WR-CALDESC:Events for CKDH
BEGIN:VEVENT
DTSTART;VALUE=DATE:20201214
DTEND;VALUE=DATE:20201215
DTSTAMP:20260421T084811
CREATED:20201214T142747Z
LAST-MODIFIED:20201214T142747Z
UID:8246-1607904000-1607990399@ckdh.com
SUMMARY:Amherst Fire Department Recruitment
DESCRIPTION:The Amherst Fire Department is starting their Annual Recruitment Program and is looking for new members to join their team. For more information on becoming a member of the Amherst fire Department\, visit the Amherst Fire Station\, speak to any Amherst fire fighter or go to amherst.ca/volunteer-firefighter. \n
URL:https://ckdh.com/event/amherst-fire-department-recruitment/
END:VEVENT
END:VCALENDAR