BEGIN:VCALENDAR
VERSION:2.0
PRODID:-//CKDH - ECPv4.6.26//NONSGML v1.0//EN
CALSCALE:GREGORIAN
METHOD:PUBLISH
X-WR-CALNAME:CKDH
X-ORIGINAL-URL:https://ckdh.com
X-WR-CALDESC:Events for CKDH
BEGIN:VEVENT
DTSTART;TZID=America/Halifax:20190301T190000
DTEND;TZID=America/Halifax:20190301T190000
DTSTAMP:20260419T144241
CREATED:20190129T155336Z
LAST-MODIFIED:20190129T155336Z
UID:5511-1551466800-1551466800@ckdh.com
SUMMARY:Amherst Fire Dept. - Glow Bingo
DESCRIPTION:Amherst Fire Department Glow Bingo is back Friday March 1 at 7 at the Amherst Firehall. This time there is an 80’s theme. So get your glow in the dark costumes ready\, because there will be prizes. This time there’s glow in the dark paper\, pre-set game packs and advanced ticket sales. There will be a cash bar so you have to be 19+ \n
URL:https://ckdh.com/event/amherst-fire-dept-glow-bingo-2/
END:VEVENT
END:VCALENDAR