BEGIN:VCALENDAR
VERSION:2.0
PRODID:-//CKDH - ECPv4.6.26//NONSGML v1.0//EN
CALSCALE:GREGORIAN
METHOD:PUBLISH
X-WR-CALNAME:CKDH
X-ORIGINAL-URL:https://ckdh.com
X-WR-CALDESC:Events for CKDH
BEGIN:VEVENT
DTSTART;TZID=UTC+0:20171022T132000
DTEND;TZID=UTC+0:20171022T132000
DTSTAMP:20260419T203523
CREATED:20170907T170408Z
LAST-MODIFIED:20170907T170408Z
UID:1454-1508678400-1508678400@ckdh.com
SUMMARY:Amherst Firefighters Association Annual Emergency Services Memorial Service
DESCRIPTION:The Amherst Firefighters Association will be holding their Annual Emergency Services Memorial Service\, Sunday Oct 22. Meet at the Amherst Fire Department before 1:20. At 1:30 there will be a march to the 1st Baptist Church. Following a service\, the firefighters will march back to the Fire Hall for a wreath laying and a moment of silence for honorary and deceased service members. \n
URL:https://ckdh.com/event/amherst-firefighters-association-annual-emergency-services-memorial-service/
END:VEVENT
END:VCALENDAR