BEGIN:VCALENDAR
VERSION:2.0
PRODID:-//CKDH - ECPv4.6.26//NONSGML v1.0//EN
CALSCALE:GREGORIAN
METHOD:PUBLISH
X-WR-CALNAME:CKDH
X-ORIGINAL-URL:https://ckdh.com
X-WR-CALDESC:Events for CKDH
BEGIN:VEVENT
DTSTART;TZID=UTC+0:20170729T100000
DTEND;TZID=UTC+0:20170729T150000
DTSTAMP:20260422T110214
CREATED:20170725T145806Z
LAST-MODIFIED:20170725T145806Z
UID:1281-1501322400-1501340400@ckdh.com
SUMMARY:Amherst Lions Park Dedication & Community Celebration
DESCRIPTION:On Saturday\, the Amherst Lions in cooperation with the Town of Amherst will officially open their community park and celebrate the ongoing development\, with music\, activities\, food and an opportunity to learn and play tennis with representatives from Tennis Nova Scotia. Tennis play starts Saturday morning at 10:30. The community celebration and music will be ongoing from 12:30-3pm and the official park dedication is at 1:00pm. For more information call 902-667-3352 or email amherstrecreation@amherst.ca. \n
URL:https://ckdh.com/event/amherst-lions-park-dedication-community-celebration/
END:VEVENT
END:VCALENDAR