BEGIN:VCALENDAR
VERSION:2.0
PRODID:-//CKDH - ECPv4.6.26//NONSGML v1.0//EN
CALSCALE:GREGORIAN
METHOD:PUBLISH
X-WR-CALNAME:CKDH
X-ORIGINAL-URL:https://ckdh.com
X-WR-CALDESC:Events for CKDH
BEGIN:VEVENT
DTSTART;TZID=America/Halifax:20171218T160000
DTEND;TZID=America/Halifax:20171218T190000
DTSTAMP:20260424T155724
CREATED:20171212T135222Z
LAST-MODIFIED:20171212T135222Z
UID:1928-1513612800-1513623600@ckdh.com
SUMMARY:Amherst Town Council Meetings
DESCRIPTION:Amherst Town Council will hold it’s December Committee of the Whole and Council session on Monday Dec 18th. Committee of the Whole is at 4\, with Council at 7. \n  \n
URL:https://ckdh.com/event/amherst-town-council-meetings/
END:VEVENT
END:VCALENDAR