BEGIN:VCALENDAR
VERSION:2.0
PRODID:-//CKDH - ECPv4.6.26//NONSGML v1.0//EN
CALSCALE:GREGORIAN
METHOD:PUBLISH
X-WR-CALNAME:CKDH
X-ORIGINAL-URL:https://ckdh.com
X-WR-CALDESC:Events for CKDH
BEGIN:VEVENT
DTSTART;VALUE=DATE:20190118
DTEND;VALUE=DATE:20190119
DTSTAMP:20260422T143623
CREATED:20181217T154806Z
LAST-MODIFIED:20181217T154806Z
UID:5353-1547769600-1547855999@ckdh.com
SUMMARY:Amherst Volunteer Nominations
DESCRIPTION:The Town of Amherst is collecting nominations of individuals who deserve special recognition. You can find the Amherst Volunteer Nomination application form on the Amherst Recreation Departments facebook page or at Amherst.ca/recreation-department. Those you nominate will be honored during National Volunteer Week in April. You can also nominate an individual for the Provincial Volunteer Award. Deadline for nominations is Jan 18. Drop them off at Amherst Town Hall or the Amherst Recreation Department at the Amherst Stadium\, or email amherstrecreation.ca \n
URL:https://ckdh.com/event/amherst-volunteer-nominations/
END:VEVENT
END:VCALENDAR