BEGIN:VCALENDAR
VERSION:2.0
PRODID:-//CKDH - ECPv4.6.26//NONSGML v1.0//EN
CALSCALE:GREGORIAN
METHOD:PUBLISH
X-WR-CALNAME:CKDH
X-ORIGINAL-URL:https://ckdh.com
X-WR-CALDESC:Events for CKDH
BEGIN:VEVENT
DTSTART;TZID=America/Halifax:20180616T130000
DTEND;TZID=America/Halifax:20180616T170000
DTSTAMP:20260421T103111
CREATED:20180528T144325Z
LAST-MODIFIED:20180528T144325Z
UID:2029-1529154000-1529168400@ckdh.com
SUMMARY:Amherst’s 2nd Annual Pride Parade
DESCRIPTION:Amherst’s 2nd Annual Pride Parade is Saturday June 16. The parade starts at 2\, with festivities in Victoria Square from 1-5. Celebrate how diversity creates community within Cumberland County. If you want to register for the parade or set up a vendor table\, email cumberlandpride@outlook.com \n
URL:https://ckdh.com/event/amhersts-2nd-annual-pride-parade/
END:VEVENT
END:VCALENDAR