BEGIN:VCALENDAR
VERSION:2.0
PRODID:-//CKDH - ECPv4.6.26//NONSGML v1.0//EN
CALSCALE:GREGORIAN
METHOD:PUBLISH
X-WR-CALNAME:CKDH
X-ORIGINAL-URL:https://ckdh.com
X-WR-CALDESC:Events for CKDH
BEGIN:VEVENT
DTSTART;VALUE=DATE:20181025
DTEND;VALUE=DATE:20181026
DTSTAMP:20260422T175309
CREATED:20181025T080604Z
LAST-MODIFIED:20181025T080604Z
UID:5078-1540425600-1540511999@ckdh.com
SUMMARY:Animal Shelter Calendars
DESCRIPTION:The 2019 L.A. Animal Shelter calendar is out now\, This year’s theme is Up Close and Personal\, featuring portraits of Shelter animals\, by Meagan Cormier of Gallery 8. They are $20 each. Find them at Simply For Life\, the Amherst Veterinary Hospital\, Wag Canine\, Park Your paws\, Maririme Mosiac\, Shaefer’s Market in Springhill and at the L.A. Animal Shelter. All proceeds support the shelter. \n
URL:https://ckdh.com/event/animal-shelter-calendars/
END:VEVENT
END:VCALENDAR