BEGIN:VCALENDAR
VERSION:2.0
PRODID:-//CKDH - ECPv4.6.26//NONSGML v1.0//EN
CALSCALE:GREGORIAN
METHOD:PUBLISH
X-WR-CALNAME:CKDH
X-ORIGINAL-URL:https://ckdh.com
X-WR-CALDESC:Events for CKDH
BEGIN:VEVENT
DTSTART;TZID=UTC+0:20170929T183000
DTEND;TZID=UTC+0:20170929T183000
DTSTAMP:20260422T104409
CREATED:20170830T160215Z
LAST-MODIFIED:20170830T160442Z
UID:1419-1506709800-1506709800@ckdh.com
SUMMARY:Anne of Springhill Dinner Theatre
DESCRIPTION:Because of the overwhelming response to the\, Anne of Springhill\, Dinner Theatre at the Maritime Music Fest\, it’s coming back for three more performances. The show tells the story of a group of wacky Anne Murray fans who get together to stage a tribute to their hometown hero. It features songs from the 50s to today as well as a number of classic songs made famous by Anne Murray. There is a show Friday Sept 29 at the Amherst Golf Club. Cost for the show and roast beef dinner is $40. Tickets available at the Pro Shop at the Amherst Golf Club or by calling (902) 667-1911 \n
URL:https://ckdh.com/event/anne-of-springhill-dinner-theatre/
END:VEVENT
END:VCALENDAR