BEGIN:VCALENDAR
VERSION:2.0
PRODID:-//CKDH - ECPv4.6.26//NONSGML v1.0//EN
CALSCALE:GREGORIAN
METHOD:PUBLISH
X-WR-CALNAME:CKDH
X-ORIGINAL-URL:https://ckdh.com
X-WR-CALDESC:Events for CKDH
BEGIN:VEVENT
DTSTART;TZID=America/Halifax:20190804T140000
DTEND;TZID=America/Halifax:20190804T140000
DTSTAMP:20260422T103441
CREATED:20190730T153016Z
LAST-MODIFIED:20190730T153016Z
UID:6414-1564927200-1564927200@ckdh.com
SUMMARY:Annual Cemetery Mass
DESCRIPTION:Sunday\, the St. Thomas Aquinas Cemetery Committee will be holding their Annual Cemetery Mass in the Church at 2:30pm.   The Blessing of the Cemetery will be at 2pm.  Reception in the parish hall following the Mass. \n
URL:https://ckdh.com/event/annual-cemetery-mass/
END:VEVENT
END:VCALENDAR