BEGIN:VCALENDAR
VERSION:2.0
PRODID:-//CKDH - ECPv4.6.26//NONSGML v1.0//EN
CALSCALE:GREGORIAN
METHOD:PUBLISH
X-WR-CALNAME:CKDH
X-ORIGINAL-URL:https://ckdh.com
X-WR-CALDESC:Events for CKDH
BEGIN:VEVENT
DTSTART;TZID=UTC+0:20170624T160000
DTEND;TZID=UTC+0:20170624T180000
DTSTAMP:20260424T131929
CREATED:20170612T170554Z
LAST-MODIFIED:20170612T170554Z
UID:1039-1498320000-1498327200@ckdh.com
SUMMARY:Annual Church Supper
DESCRIPTION:Malagash United Church invites you to its Annual Church Supper on Sat. June 24 from 4-6 at the Malagash Community Hall\, 1926 North Shore Road. At the buffet table will be casseroles\, salads\, beans\, brown bread\, rolls\, biscuits and pie or cake for dessert and all homemade. Adults $12.00\, children 12 and under $6.00\, free for preschoolers. \n
URL:https://ckdh.com/event/annual-church-supper/
END:VEVENT
END:VCALENDAR