BEGIN:VCALENDAR
VERSION:2.0
PRODID:-//CKDH - ECPv4.6.26//NONSGML v1.0//EN
CALSCALE:GREGORIAN
METHOD:PUBLISH
X-WR-CALNAME:CKDH
X-ORIGINAL-URL:https://ckdh.com
X-WR-CALDESC:Events for CKDH
BEGIN:VEVENT
DTSTART;TZID=UTC+0:20171007T100000
DTEND;TZID=UTC+0:20171007T160000
DTSTAMP:20260423T113703
CREATED:20170927T174524Z
LAST-MODIFIED:20170927T174524Z
UID:1538-1507370400-1507392000@ckdh.com
SUMMARY:Annual Holistic Health and Wellness Show
DESCRIPTION:Wentworth 2nd Annual Holistic Health and Wellness Show is Saturday October 7 10-4 at the Wentworth Learning Centre Hwy #4. You will find Crystals\, art\, natural products\, jewelry\, spiritual wellness\, energy medicine\, and psychics and more\, and you could win prizes through the day. Admission is a donation at the door\, proceeds for the Learning Centre. For information call April Wilson-Dares 902 890 0747 \n
URL:https://ckdh.com/event/annual-holistic-health-and-wellness-show/
END:VEVENT
END:VCALENDAR