BEGIN:VCALENDAR
VERSION:2.0
PRODID:-//CKDH - ECPv4.6.26//NONSGML v1.0//EN
CALSCALE:GREGORIAN
METHOD:PUBLISH
X-WR-CALNAME:CKDH
X-ORIGINAL-URL:https://ckdh.com
X-WR-CALDESC:Events for CKDH
BEGIN:VEVENT
DTSTART;VALUE=DATE:20170529
DTEND;VALUE=DATE:20170530
DTSTAMP:20260423T125948
CREATED:20170518T172219Z
LAST-MODIFIED:20170518T172219Z
UID:907-1496016000-1496102399@ckdh.com
SUMMARY:Annual Lobster or Ham Take-out Supper
DESCRIPTION:The Sunrise Renwick United Church in Amherst Head is holding their Annual Lobster or Ham Take-out Supper\, Saturday June 3. You have 3 choices\, ham for $15\, 1 lobster for $20 or 2 lobsters for $30. You have to order in advance. Call Iris at 902-661-4002 or Sandra at 902-667-9879 by Monday May 29. Pick up is June 3 between 3 and 4. \n
URL:https://ckdh.com/event/annual-lobster-or-ham-take-out-supper/
END:VEVENT
END:VCALENDAR