BEGIN:VCALENDAR
VERSION:2.0
PRODID:-//CKDH - ECPv4.6.26//NONSGML v1.0//EN
CALSCALE:GREGORIAN
METHOD:PUBLISH
X-WR-CALNAME:CKDH
X-ORIGINAL-URL:https://ckdh.com
X-WR-CALDESC:Events for CKDH
BEGIN:VEVENT
DTSTART;TZID=America/Halifax:20181103T160000
DTEND;TZID=America/Halifax:20181103T173000
DTSTAMP:20260421T100848
CREATED:20181029T155142Z
LAST-MODIFIED:20181029T155142Z
UID:5083-1541260800-1541266200@ckdh.com
SUMMARY:Annual Roast Chicken Dinner
DESCRIPTION:The Annual Roast Chicken Dinner at the FPW Fire Hall in Port Greville is Saturday from 4-5:30. It’s $12 for adults. $6 for children. Proceeds to the Age of Sail Museum. \n
URL:https://ckdh.com/event/annual-roast-chicken-dinner/
END:VEVENT
END:VCALENDAR