BEGIN:VCALENDAR
VERSION:2.0
PRODID:-//CKDH - ECPv4.6.26//NONSGML v1.0//EN
CALSCALE:GREGORIAN
METHOD:PUBLISH
X-WR-CALNAME:CKDH
X-ORIGINAL-URL:https://ckdh.com
X-WR-CALDESC:Events for CKDH
BEGIN:VEVENT
DTSTART;TZID=America/Halifax:20191019T130000
DTEND;TZID=America/Halifax:20191019T150000
DTSTAMP:20260422T121656
CREATED:20191017T154852Z
LAST-MODIFIED:20191017T154852Z
UID:6860-1571490000-1571497200@ckdh.com
SUMMARY:Apple Pressing Event
DESCRIPTION:There’s a Wild Harvest Community Apple Pressing Event Saturday from 1-3 in Victoria Square in downtown Amherst. Bring your backyard or wild apples\, press them into a fresh tasty juice. They will also have apple sauce demos and more. \nIt’s presented by Eat Local Cumberland\, and Waste Not Want Not\, a Found Forgotten Food Community Hub. \n
URL:https://ckdh.com/event/apple-pressing-event/
END:VEVENT
END:VCALENDAR