BEGIN:VCALENDAR
VERSION:2.0
PRODID:-//CKDH - ECPv4.6.26//NONSGML v1.0//EN
CALSCALE:GREGORIAN
METHOD:PUBLISH
X-WR-CALNAME:CKDH
X-ORIGINAL-URL:https://ckdh.com
X-WR-CALDESC:Events for CKDH
BEGIN:VEVENT
DTSTART;TZID=UTC+0:20171203T190000
DTEND;TZID=UTC+0:20171203T190000
DTSTAMP:20260423T112109
CREATED:20171123T214205Z
LAST-MODIFIED:20171123T214205Z
UID:1856-1512327600-1512327600@ckdh.com
SUMMARY:ARHS Christmas Concert
DESCRIPTION:The Amherst Regional High bands and choir will be holding their Christmas concert in the Susan Taylor Theatre\, Sun Dec 3 at 7. Donations will be accepted at the door. \n
URL:https://ckdh.com/event/arhs-christmas-concert/
END:VEVENT
END:VCALENDAR