BEGIN:VCALENDAR
VERSION:2.0
PRODID:-//CKDH - ECPv4.6.26//NONSGML v1.0//EN
CALSCALE:GREGORIAN
METHOD:PUBLISH
X-WR-CALNAME:CKDH
X-ORIGINAL-URL:https://ckdh.com
X-WR-CALDESC:Events for CKDH
BEGIN:VEVENT
DTSTART;TZID=America/Halifax:20191018T100000
DTEND;TZID=America/Halifax:20191018T140000
DTSTAMP:20260424T112112
CREATED:20191018T111817Z
LAST-MODIFIED:20191018T111817Z
UID:6873-1571392800-1571407200@ckdh.com
SUMMARY:Bag Sale Days
DESCRIPTION:Today 9-3 and tomorrow 10-2 are BAG SALE Days at Bargains at the Bridge thrift store. Fill a Bag for ONLY $5.00!! Bargains at the Bridge is a Social Enterprise of The Bridge Adult Service Centre 16 Station St Amherst. Revenue from our store helps provide programs for BASC clients\, \n
URL:https://ckdh.com/event/bag-sale-days/
END:VEVENT
END:VCALENDAR