BEGIN:VCALENDAR
VERSION:2.0
PRODID:-//CKDH - ECPv4.6.26//NONSGML v1.0//EN
CALSCALE:GREGORIAN
METHOD:PUBLISH
X-WR-CALNAME:CKDH
X-ORIGINAL-URL:https://ckdh.com
X-WR-CALDESC:Events for CKDH
BEGIN:VEVENT
DTSTART;TZID=America/Halifax:20191005T090000
DTEND;TZID=America/Halifax:20191005T140000
DTSTAMP:20260420T191707
CREATED:20191004T114503Z
LAST-MODIFIED:20191004T114503Z
UID:6778-1570266000-1570284000@ckdh.com
SUMMARY:Bake and Craft Sale
DESCRIPTION:There’s a Bake and Craft Sale at the Amherst Salvation Army Saturday from 9-2. \n
URL:https://ckdh.com/event/bake-and-craft-sale/
END:VEVENT
END:VCALENDAR