BEGIN:VCALENDAR
VERSION:2.0
PRODID:-//CKDH - ECPv4.6.26//NONSGML v1.0//EN
CALSCALE:GREGORIAN
METHOD:PUBLISH
X-WR-CALNAME:CKDH
X-ORIGINAL-URL:https://ckdh.com
X-WR-CALDESC:Events for CKDH
BEGIN:VEVENT
DTSTART;TZID=America/Halifax:20190914T103000
DTEND;TZID=America/Halifax:20190914T150000
DTSTAMP:20260421T113017
CREATED:20190903T155610Z
LAST-MODIFIED:20190903T155610Z
UID:6580-1568457000-1568473200@ckdh.com
SUMMARY:BBQ Fundraiser
DESCRIPTION:The Amherst and Area Tae Kwon-do Parents Association a hosting a BBQ Saturday Sept 14 from 10:30-3 at Dickey Park\, as part of the Town of Amherst Family Fun Day. \n  \n
URL:https://ckdh.com/event/bbq-fundraiser/
END:VEVENT
END:VCALENDAR