BEGIN:VCALENDAR
VERSION:2.0
PRODID:-//CKDH - ECPv4.6.26//NONSGML v1.0//EN
CALSCALE:GREGORIAN
METHOD:PUBLISH
X-WR-CALNAME:CKDH
X-ORIGINAL-URL:https://ckdh.com
X-WR-CALDESC:Events for CKDH
BEGIN:VEVENT
DTSTART;TZID=UTC+0:20170728T113000
DTEND;TZID=UTC+0:20170728T130000
DTSTAMP:20260422T175136
CREATED:20170727T164756Z
LAST-MODIFIED:20170727T165154Z
UID:1289-1501241400-1501246800@ckdh.com
SUMMARY:BBQ/Bake Sale
DESCRIPTION:The YMCA of Cumberland is hosting a BBQ and Bake Sale\, Friday from 11:30-1. Stop by the Y’s front parking lot for lunch and treats. Proceeds to the Strong Kids Campaign. \n
URL:https://ckdh.com/event/bbqbake-sale/
END:VEVENT
END:VCALENDAR