BEGIN:VCALENDAR
VERSION:2.0
PRODID:-//CKDH - ECPv4.6.26//NONSGML v1.0//EN
CALSCALE:GREGORIAN
METHOD:PUBLISH
X-WR-CALNAME:CKDH
X-ORIGINAL-URL:https://ckdh.com
X-WR-CALDESC:Events for CKDH
BEGIN:VEVENT
DTSTART;TZID=UTC+0:20170506T190000
DTEND;TZID=UTC+0:20170506T190000
DTSTAMP:20260424T115202
CREATED:20170420T184427Z
LAST-MODIFIED:20170420T184427Z
UID:742-1494097200-1494097200@ckdh.com
SUMMARY:Benefit for Monica Doucette
DESCRIPTION:There’s a Benefit for Monica Doucette at the Knights of Columbus Hall\, Sat May 6 from 7-midnight. There will be a silent auction and a 50/50. Music will be by Steve LeBlanc\, Basil Hicks and Cool Water. Admission is a donation at the door. Proceeds will help Monica with her battle with cancer. \n
URL:https://ckdh.com/event/benefit-for-monica-doucette/
END:VEVENT
END:VCALENDAR