BEGIN:VCALENDAR
VERSION:2.0
PRODID:-//CKDH - ECPv4.6.26//NONSGML v1.0//EN
CALSCALE:GREGORIAN
METHOD:PUBLISH
X-WR-CALNAME:CKDH
X-ORIGINAL-URL:https://ckdh.com
X-WR-CALDESC:Events for CKDH
BEGIN:VEVENT
DTSTART;TZID=America/Halifax:20180616T170000
DTEND;TZID=America/Halifax:20180616T170000
DTSTAMP:20260421T133459
CREATED:20180530T141044Z
LAST-MODIFIED:20180530T141044Z
UID:2081-1529168400-1529168400@ckdh.com
SUMMARY:Benefit for Ronnie Downey
DESCRIPTION:There will be a Benefit for Ronnie Downey Sat June 16 starting at 5 at Teasers. Proceeds will help with expenses as Ronnie recovers from a recent motorcycle accident. \n
URL:https://ckdh.com/event/benefit-for-ronnie-downey/
END:VEVENT
END:VCALENDAR