BEGIN:VCALENDAR
VERSION:2.0
PRODID:-//CKDH - ECPv4.6.26//NONSGML v1.0//EN
CALSCALE:GREGORIAN
METHOD:PUBLISH
X-WR-CALNAME:CKDH
X-ORIGINAL-URL:https://ckdh.com
X-WR-CALDESC:Events for CKDH
BEGIN:VEVENT
DTSTART;VALUE=DATE:20190811
DTEND;VALUE=DATE:20190812
DTSTAMP:20260420T223739
CREATED:20190808T074249Z
LAST-MODIFIED:20190808T074249Z
UID:6459-1565481600-1565567999@ckdh.com
SUMMARY:Blessing of the Crops
DESCRIPTION:Due to construction on the Universalist Church in Minudie\, the annual Minudie Heritage Association Quilt Show scheduled for this weekend will not be held this year. Sunday the Heritage Association will be holding the Blessing of the Crops Mass at the St Denis Church at 2. There will be a reception at St Thomas Aquinas Church Hall in Joggins afterward. Then there’s a concert with local entertainers at 6 at St. Denis Church. For more information call 902-251-2422. \n
URL:https://ckdh.com/event/blessing-of-the-crops/
END:VEVENT
END:VCALENDAR