BEGIN:VCALENDAR
VERSION:2.0
PRODID:-//CKDH - ECPv4.6.26//NONSGML v1.0//EN
CALSCALE:GREGORIAN
METHOD:PUBLISH
X-WR-CALNAME:CKDH
X-ORIGINAL-URL:https://ckdh.com
X-WR-CALDESC:Events for CKDH
BEGIN:VEVENT
DTSTART;TZID=UTC+0:20170410T130000
DTEND;TZID=UTC+0:20170411T190000
DTSTAMP:20260422T161424
CREATED:20170410T185801Z
LAST-MODIFIED:20170410T185801Z
UID:568-1491829200-1491937200@ckdh.com
SUMMARY:Blood Donor Clinics
DESCRIPTION:Canadian Blood Services are holding Blood Donor Clinics Monday Apr 10 from 1-3 and 5-8 and Tue Apr 11 from 1-3 and 5-7\, at the Amherst Lions Center. Book an appointment at blood.ca\, call 1-888-2donate or drop in. 140 new donors are need for the Amherst clinics. \n
URL:https://ckdh.com/event/blood-donor-clinics/
END:VEVENT
END:VCALENDAR