BEGIN:VCALENDAR
VERSION:2.0
PRODID:-//CKDH - ECPv4.6.26//NONSGML v1.0//EN
CALSCALE:GREGORIAN
METHOD:PUBLISH
X-WR-CALNAME:CKDH
X-ORIGINAL-URL:https://ckdh.com
X-WR-CALDESC:Events for CKDH
BEGIN:VEVENT
DTSTART;VALUE=DATE:20191018
DTEND;VALUE=DATE:20191019
DTSTAMP:20260422T153339
CREATED:20191015T145409Z
LAST-MODIFIED:20191015T145409Z
UID:6828-1571356800-1571443199@ckdh.com
SUMMARY:Blue Zone Project
DESCRIPTION:Find out how important physical activity is and how it impacts our communities. Ellen Kehr from Albert Lea Minnesota organizational lead of the community’s Blue Zone Project\, will describe how successful policy and environment changes\, enhanced community vibrancy and economic prosperity. It’s Wednesday Oct 23\, from 3-4:30\, at the Capitol Theatre in Oxford. RSVP to abby.brothers@novascotia.ca\, by Friday. \n
URL:https://ckdh.com/event/blue-zone-project/
END:VEVENT
END:VCALENDAR